BEGIN:VCALENDAR
VERSION:2.0
PRODID:-//Merkle Retirement Planning - ECPv6.15.20//NONSGML v1.0//EN
CALSCALE:GREGORIAN
METHOD:PUBLISH
X-ORIGINAL-URL:https://merkleretirementplanning.com
X-WR-CALDESC:Events for Merkle Retirement Planning
REFRESH-INTERVAL;VALUE=DURATION:PT1H
X-Robots-Tag:noindex
X-PUBLISHED-TTL:PT1H
BEGIN:VTIMEZONE
TZID:America/Chicago
BEGIN:DAYLIGHT
TZOFFSETFROM:-0600
TZOFFSETTO:-0500
TZNAME:CDT
DTSTART:20250309T080000
END:DAYLIGHT
BEGIN:STANDARD
TZOFFSETFROM:-0500
TZOFFSETTO:-0600
TZNAME:CST
DTSTART:20251102T070000
END:STANDARD
BEGIN:DAYLIGHT
TZOFFSETFROM:-0600
TZOFFSETTO:-0500
TZNAME:CDT
DTSTART:20260308T080000
END:DAYLIGHT
BEGIN:STANDARD
TZOFFSETFROM:-0500
TZOFFSETTO:-0600
TZNAME:CST
DTSTART:20261101T070000
END:STANDARD
BEGIN:DAYLIGHT
TZOFFSETFROM:-0600
TZOFFSETTO:-0500
TZNAME:CDT
DTSTART:20270314T080000
END:DAYLIGHT
BEGIN:STANDARD
TZOFFSETFROM:-0500
TZOFFSETTO:-0600
TZNAME:CST
DTSTART:20271107T070000
END:STANDARD
END:VTIMEZONE
BEGIN:VEVENT
DTSTART;TZID=America/Chicago:20260604T133000
DTEND;TZID=America/Chicago:20260604T153000
DTSTAMP:20260420T045917
CREATED:20260415T142506Z
LAST-MODIFIED:20260415T142506Z
UID:10001181-1780579800-1780587000@merkleretirementplanning.com
SUMMARY:BINGO
DESCRIPTION:Join us for an afternoon of BINGO on Thursday\, June 4th! Doors open at 1:00 PM\, with the event running from 1:30 PM to 3:30 PM. Enjoy a lively atmosphere featuring 10 rounds of games with prizes. Snacks and drinks will be provided. The event will take place at the Sherwood Forest Event Center located at 7400 Hickman Rd. in Windsor Heights.
URL:https://merkleretirementplanning.com/event/bingo/
LOCATION:Sherwood Forest Event Center\, 7400 Hickman Rd\, Des Moines\, IA\, 50325\, United States
CATEGORIES:Client Events,Lifestyle Events
ATTACH;FMTTYPE=image/jpeg:https://merkleretirementplanning.com/wp-content/uploads/2025/04/July-Lifestyle-Event_Merkle-Retirement-Planning_6W4A0959.jpg
END:VEVENT
END:VCALENDAR